BEGIN:VCALENDAR
VERSION:2.0
PRODID:-//eventon.com NONSGML v1.0//EN
CALSCALE:GREGORIAN
METHOD:PUBLISH
BEGIN:VEVENT
UID:69e5fe30a82ae
DTSTAMP:20260420T102136Z
DTSTART:20250116T120000Z
DTEND:20250601T070000Z
LOCATION:Yoga Retreat Costa Rica Playa Azul\,  Guanacaste Province\,  Nosara\,  50206\,  Costa Rica
SUMMARY:Event that span across months
DESCRIPTION:Event that span across months\nhttps://demo.myeventon.com/event
 s/event-span-across-months/
URL:https://demo.myeventon.com/events/event-span-across-months/
END:VEVENT
END:VCALENDAR